BEGIN:VCALENDAR
VERSION:2.0
PRODID:-//The Stockbridge Sportsmens Club - ECPv6.0.3//NONSGML v1.0//EN
CALSCALE:GREGORIAN
METHOD:PUBLISH
X-WR-CALNAME:The Stockbridge Sportsmens Club
X-ORIGINAL-URL:https://stockbridgesportsmensclub.org
X-WR-CALDESC:Events for The Stockbridge Sportsmens Club
REFRESH-INTERVAL;VALUE=DURATION:PT1H
X-Robots-Tag:noindex
X-PUBLISHED-TTL:PT1H
BEGIN:VTIMEZONE
TZID:America/New_York
BEGIN:DAYLIGHT
TZOFFSETFROM:-0500
TZOFFSETTO:-0400
TZNAME:EDT
DTSTART:20250309T070000
END:DAYLIGHT
BEGIN:STANDARD
TZOFFSETFROM:-0400
TZOFFSETTO:-0500
TZNAME:EST
DTSTART:20251102T060000
END:STANDARD
END:VTIMEZONE
BEGIN:VEVENT
DTSTART;TZID=America/New_York:20250517T090000
DTEND;TZID=America/New_York:20250517T120000
DTSTAMP:20260420T210815
CREATED:20250414T181745Z
LAST-MODIFIED:20250509T154809Z
UID:1853-1747472400-1747483200@stockbridgesportsmensclub.org
SUMMARY:Annual Kid's Fishing Derby
DESCRIPTION:Kid’s Fishing Derby Postponed\nUnfortunately\, the forecast for Saturday is calling for heavy rain. The Kid’s Fishing Derby at Minkler’s pond is being postponed until Saturday\, May 17th. \nThe annual fishing derby for children of Stockbridge Sportsmen’s Club members will be held on Saturday\, May 10th at the Minkler’s Pond\, 3 Old Tree Farm Road (off Rt 183) in Stockbridge. Hours are 9:00 AM until Noon. Please try to arrive a little early\, and park on the road above the pond. \nOver 100 trout will be stocked in the pond\, including some that are large. Provide your own fishing equipment and bait. All kids will receive a prize. Hot dogs and drinks will be available. \nWe hope to see lots of kids at the derby. Thank you to Tim and Nancy Minkler for hosting the kid’s derby again this year.
URL:https://stockbridgesportsmensclub.org/event/annual-kids-fishing-derby/
LOCATION:Minkler’s Pond\, 3 Old Tree Farm Road\, Stockbridge\, MA\, 01262\, United States
END:VEVENT
BEGIN:VEVENT
DTSTART;TZID=America/New_York:20250518T050000
DTEND;TZID=America/New_York:20250518T130000
DTSTAMP:20260420T210815
CREATED:20250414T182226Z
LAST-MODIFIED:20250414T183122Z
UID:1856-1747544400-1747573200@stockbridgesportsmensclub.org
SUMMARY:Spring Fishing Derby 2025
DESCRIPTION:Sunday\, May 18th from Dawn until 1:00 PM at the Stockbridge Bowl Boat Ramp \nOfficial rules may be picked up at the boat ramp \nHeaviest Trout/Salmon – $100\nHeaviest Bass – $100\nHeaviest Pickerel – $100\nHeaviest Bullhead  – $100 \nFree Lures for all kids 12 & Under\nPre-registration fee: $15.00\nDay of Registration fee: $20.00 \nTickets available at:\nMinkler Insurance Agency\n31 Main Street\nStockbridge\, MA\n(W) 413-449-5341\n(H) 413-298-4630 \nOr Contact Any Club Member
URL:https://stockbridgesportsmensclub.org/event/spring-fishing-derby-2025/
LOCATION:Stockbridge Bowl – Boat Ramp\, 106 Interlaken Rd\, Stockbridge\, MA\, 01262\, United States
ATTACH;FMTTYPE=application/pdf:https://stockbridgesportsmensclub.org/wp-content/uploads/2025/04/SSC-Spring-Derby-2025.pdf
END:VEVENT
END:VCALENDAR