BEGIN:VCALENDAR
VERSION:2.0
PRODID:-//The Stockbridge Sportsmens Club - ECPv6.0.3//NONSGML v1.0//EN
CALSCALE:GREGORIAN
METHOD:PUBLISH
X-ORIGINAL-URL:https://stockbridgesportsmensclub.org
X-WR-CALDESC:Events for The Stockbridge Sportsmens Club
REFRESH-INTERVAL;VALUE=DURATION:PT1H
X-Robots-Tag:noindex
X-PUBLISHED-TTL:PT1H
BEGIN:VTIMEZONE
TZID:America/New_York
BEGIN:DAYLIGHT
TZOFFSETFROM:-0500
TZOFFSETTO:-0400
TZNAME:EDT
DTSTART:20250309T070000
END:DAYLIGHT
BEGIN:STANDARD
TZOFFSETFROM:-0400
TZOFFSETTO:-0500
TZNAME:EST
DTSTART:20251102T060000
END:STANDARD
BEGIN:DAYLIGHT
TZOFFSETFROM:-0500
TZOFFSETTO:-0400
TZNAME:EDT
DTSTART:20260308T070000
END:DAYLIGHT
BEGIN:STANDARD
TZOFFSETFROM:-0400
TZOFFSETTO:-0500
TZNAME:EST
DTSTART:20261101T060000
END:STANDARD
END:VTIMEZONE
BEGIN:VEVENT
DTSTART;TZID=America/New_York:20250621T083000
DTEND;TZID=America/New_York:20250621T143000
DTSTAMP:20260421T171425
CREATED:20250508T175121Z
LAST-MODIFIED:20250508T175322Z
UID:1876-1750494600-1750516200@stockbridgesportsmensclub.org
SUMMARY:Massachusetts Pistol License Course (LTC-020) - June 21st\, 2025
DESCRIPTION:This course qualifies for a Massachusetts LTC or FID. It covers Massachusetts laws\, safe gun handling\, firearm operation\, shooting fundamentals\, etc. A live fire session is also included\, and you will receive new eye and ear protection that is yours to keep. The $ 160.00 course fee is due in cash at the course. To register\, please use the contact form on https://nrapistolinstructor.com/. Be sure to include the course date\, your full legal name\, date of birth and email address.
URL:https://stockbridgesportsmensclub.org/event/massachusetts-pistol-license-course-ltc-020-june-21-2025/
LOCATION:Stockbridge Sportsmen’s Club\, 24 West Stockbridge Road\, Stockbridge\, MA\, 01262\, United States
ATTACH;FMTTYPE=image/jpeg:https://stockbridgesportsmensclub.org/wp-content/uploads/2022/05/ssc-gun-safety-2.jpg
END:VEVENT
BEGIN:VEVENT
DTSTART;TZID=America/New_York:20260425T080000
DTEND;TZID=America/New_York:20260426T170000
DTSTAMP:20260421T171425
CREATED:20260401T143223Z
LAST-MODIFIED:20260401T143223Z
UID:1928-1777104000-1777222800@stockbridgesportsmensclub.org
SUMMARY:ASA 3D Archery Shoot
DESCRIPTION:
URL:https://stockbridgesportsmensclub.org/event/asa-3d-archery-shoot/
LOCATION:Stockbridge Sportsmen’s Club\, 24 West Stockbridge Road\, Stockbridge\, MA\, 01262\, United States
END:VEVENT
BEGIN:VEVENT
DTSTART;TZID=America/New_York:20260516T090000
DTEND;TZID=America/New_York:20260516T120000
DTSTAMP:20260421T171425
CREATED:20260421T132921Z
LAST-MODIFIED:20260421T133022Z
UID:1931-1778922000-1778932800@stockbridgesportsmensclub.org
SUMMARY:Annual Kid's Fishing Derby 2026
DESCRIPTION:ANNUAL KID’S FISHING DERBY – The annual fishing derby for children of Stockbridge Sportsmen’s Club members will be held on Saturday\, May 16th at the Minkler’s Pond\, 3 Old Tree Farm Road (off Rt 183) in Stockbridge. Hours are 9:00 AM until Noon. Please try to arrive a little early\, and park on the road above the pond. \nOver 100 trout will be stocked in the pond\, plus about 12 from last year that should be a bit larger. Provide your own fishing equipment and bait. All kids will receive a prize. Hot dogs and cookies for everyone. \nWe hope to see lots of kids at the derby. Thank you to Tim and Nancy Minkler for hosting the kid’s derby again this year.
URL:https://stockbridgesportsmensclub.org/event/annual-kids-fishing-derby-2026/
LOCATION:Minkler’s Pond\, 3 Old Tree Farm Road\, Stockbridge\, MA\, 01262\, United States
END:VEVENT
END:VCALENDAR